BEGIN:VCALENDAR
VERSION:2.0
PRODID:-//eventon.com NONSGML v1.0//EN
BEGIN:VEVENT
UID:69e733d4e50ca
DTSTAMP:20260421T032244
DTSTART:20230909T023000Z
DTEND:20230909T045000Z
LOCATION:
SUMMARY:Forrest & The Fire
DESCRIPTION: Forrest & The Fire
END:VEVENT
END:VCALENDAR