BEGIN:VCALENDAR
VERSION:2.0
PRODID:-//eventon.com NONSGML v1.0//EN
BEGIN:VEVENT
UID:69e71b1f6209c
DTSTAMP:20260421T013719
DTSTART:20230923T023000Z
DTEND:20230923T045000Z
LOCATION:Speakeasy 412 Congress Ave\,  Austin\,  Texas 78701
SUMMARY:Rhinosaur
DESCRIPTION: Rhinosaur
END:VEVENT
END:VCALENDAR