BEGIN:VCALENDAR
VERSION:2.0
PRODID:-//eventon.com NONSGML v1.0//EN
BEGIN:VEVENT
UID:69e704f831724
DTSTAMP:20260421T000248
DTSTART:20230906T010000Z
DTEND:20230906T045000Z
LOCATION:
SUMMARY:Dennis Dietz
DESCRIPTION: Dennis Dietz
END:VEVENT
END:VCALENDAR