BEGIN:VCALENDAR
VERSION:2.0
PRODID:-//eventon.com NONSGML v1.0//EN
BEGIN:VEVENT
UID:69e69e5ca3bcf
DTSTAMP:20260420T164500
DTSTART:20230902T023000Z
DTEND:20230902T045000Z
LOCATION:Speakeasy 412 Congress Ave\,  Austin\,  Texas 78701
SUMMARY:Type A
DESCRIPTION: Type A
END:VEVENT
END:VCALENDAR