BEGIN:VCALENDAR
VERSION:2.0
PRODID:-//eventon.com NONSGML v1.0//EN
BEGIN:VEVENT
UID:69e6883e40fcd
DTSTAMP:20260420T151038
DTSTART:20230823T010000Z
DTEND:20230823T045000Z
LOCATION:Speakeasy 412 Congress Ave\,  Austin\,  Texas 78701
SUMMARY:Robert Jericho
DESCRIPTION: Robert Jericho
END:VEVENT
END:VCALENDAR