BEGIN:VCALENDAR
VERSION:2.0
PRODID:-//eventon.com NONSGML v1.0//EN
BEGIN:VEVENT
UID:69e66de259288
DTSTAMP:20260420T131810
DTSTART:20230831T010000Z
DTEND:20230831T045000Z
LOCATION:Speakeasy 412 Congress Ave\,  Austin\,  Texas 78701
SUMMARY:The Spazmatics @ The Ballroom at Speakeasy
DESCRIPTION: Join us every Wednesday Night as Austin's Ultimate 80's Tribute Band takes the stage at The Ballroom at Speakeasy. Doors open at 8PM\,  Spazmatics start at 9:30. Click here for tickets!
END:VEVENT
END:VCALENDAR