BEGIN:VCALENDAR
VERSION:2.0
PRODID:-//eventon.com NONSGML v1.0//EN
BEGIN:VEVENT
UID:69e6573106964
DTSTAMP:20260420T114121
DTSTART:20230828T010000Z
DTEND:20230828T045000Z
LOCATION:
SUMMARY:Nathan Lugo
DESCRIPTION: Nathan Lugo
END:VEVENT
END:VCALENDAR