BEGIN:VCALENDAR
VERSION:2.0
PRODID:-//eventon.com NONSGML v1.0//EN
BEGIN:VEVENT
UID:69e63fd2e6e0d
DTSTAMP:20260420T100138
DTSTART:20230821T010000Z
DTEND:20230821T045000Z
LOCATION:
SUMMARY:Sunday Funday
DESCRIPTION: Sunday Funday
END:VEVENT
END:VCALENDAR