BEGIN:VCALENDAR
VERSION:2.0
PRODID:-//eventon.com NONSGML v1.0//EN
BEGIN:VEVENT
UID:69e6580918d18
DTSTAMP:20260420T114457
DTSTART:20230814T010000Z
DTEND:20230814T045000Z
LOCATION:
SUMMARY:Sunday Funday
DESCRIPTION: Sunday Funday
END:VEVENT
END:VCALENDAR