BEGIN:VCALENDAR
VERSION:2.0
PRODID:-//eventon.com NONSGML v1.0//EN
BEGIN:VEVENT
UID:69e66dfe3506c
DTSTAMP:20260420T131838
DTSTART:20230809T010000Z
DTEND:20230809T045000Z
LOCATION:
SUMMARY:Raul Ochoa
DESCRIPTION: Raul Ochoa
END:VEVENT
END:VCALENDAR