BEGIN:VCALENDAR
VERSION:2.0
PRODID:-//eventon.com NONSGML v1.0//EN
BEGIN:VEVENT
UID:69e6b9244cb29
DTSTAMP:20260420T183916
DTSTART:20230830T010000Z
DTEND:20230830T045000Z
LOCATION:
SUMMARY:Raul Ochoa
DESCRIPTION: Raul Ochoa
END:VEVENT
END:VCALENDAR