BEGIN:VCALENDAR
VERSION:2.0
PRODID:-//eventon.com NONSGML v1.0//EN
BEGIN:VEVENT
UID:69e6ce65488e3
DTSTAMP:20260420T200957
DTSTART:20230826T023000Z
DTEND:20230826T045000Z
LOCATION:
SUMMARY:Konzi
DESCRIPTION: Konzi
END:VEVENT
END:VCALENDAR