BEGIN:VCALENDAR
VERSION:2.0
PRODID:-//eventon.com NONSGML v1.0//EN
BEGIN:VEVENT
UID:69e7162b6576a
DTSTAMP:20260421T011611
DTSTART:20230819T023000Z
DTEND:20230819T045000Z
LOCATION:Speakeasy 412 Congress Ave\,  Austin\,  Texas 78701
SUMMARY:Zoodust
DESCRIPTION: Zoodust
END:VEVENT
END:VCALENDAR