BEGIN:VCALENDAR
VERSION:2.0
PRODID:-//eventon.com NONSGML v1.0//EN
BEGIN:VEVENT
UID:69e75db5c3b36
DTSTAMP:20260421T062125
DTSTART:20230812T023000Z
DTEND:20230812T045000Z
LOCATION:Speakeasy 412 Congress Ave\,  Austin\,  Texas 78701
SUMMARY:Rhinosaur
DESCRIPTION: Rhinosaur
END:VEVENT
END:VCALENDAR