BEGIN:VCALENDAR
VERSION:2.0
PRODID:-//eventon.com NONSGML v1.0//EN
BEGIN:VEVENT
UID:69e794b46399f
DTSTAMP:20260421T101604
DTSTART:20230805T023000Z
DTEND:20230805T045000Z
LOCATION:Speakeasy 412 Congress Ave\,  Austin\,  Texas 78701
SUMMARY:Type A
DESCRIPTION: Type A
END:VEVENT
END:VCALENDAR