BEGIN:VCALENDAR
VERSION:2.0
PRODID:-//eventon.com NONSGML v1.0//EN
BEGIN:VEVENT
UID:69e7ca172a8dd
DTSTAMP:20260421T140351
DTSTART:20230802T010000Z
DTEND:20230802T045000Z
LOCATION:Speakeasy 412 Congress Ave\,  Austin\,  Texas 78701
SUMMARY:Robert Jericho
DESCRIPTION: Robert Jericho
END:VEVENT
END:VCALENDAR