BEGIN:VCALENDAR
VERSION:2.0
PRODID:-//eventon.com NONSGML v1.0//EN
BEGIN:VEVENT
UID:69e81882246da
DTSTAMP:20260421T193826
DTSTART:20230722T023000Z
DTEND:20230722T045000Z
LOCATION:
SUMMARY:EMOcean Avenue
DESCRIPTION: EMOcean Avenue
END:VEVENT
END:VCALENDAR