BEGIN:VCALENDAR
VERSION:2.0
PRODID:-//eventon.com NONSGML v1.0//EN
BEGIN:VEVENT
UID:69e831e65cfd2
DTSTAMP:20260421T212646
DTSTART:20230729T023000Z
DTEND:20230729T045000Z
LOCATION:
SUMMARY:90s Country Music Night w/The Lonestar Souvenirs
DESCRIPTION: 90s Country Music Night w/The Lonestar Souvenirs
END:VEVENT
END:VCALENDAR