BEGIN:VCALENDAR
VERSION:2.0
PRODID:-//eventon.com NONSGML v1.0//EN
BEGIN:VEVENT
UID:69e88c46e1de8
DTSTAMP:20260422T035222
DTSTART:20230723T230000Z
DTEND:20230724T045000Z
LOCATION:Speakeasy 412 Congress Ave\,  Austin\,  Texas 78701
SUMMARY:Sir William
DESCRIPTION: Sir William
END:VEVENT
END:VCALENDAR