BEGIN:VCALENDAR
VERSION:2.0
PRODID:-//eventon.com NONSGML v1.0//EN
BEGIN:VEVENT
UID:69e88a4f32efc
DTSTAMP:20260422T034359
DTSTART:20230624T023000Z
DTEND:20230624T045000Z
LOCATION:
SUMMARY:EMOcean Avenue
DESCRIPTION: EMOcean Avenue
END:VEVENT
END:VCALENDAR