BEGIN:VCALENDAR
VERSION:2.0
PRODID:-//eventon.com NONSGML v1.0//EN
BEGIN:VEVENT
UID:69e8a25501188
DTSTAMP:20260422T052629
DTSTART:20230721T023000Z
DTEND:20230721T045000Z
LOCATION:Speakeasy 412 Congress Ave\,  Austin\,  Texas 78701
SUMMARY:The Lonestar Souvenirs
DESCRIPTION: The Lonestar Souvenirs
END:VEVENT
END:VCALENDAR