BEGIN:VCALENDAR
VERSION:2.0
PRODID:-//eventon.com NONSGML v1.0//EN
BEGIN:VEVENT
UID:69e9181fd2cb0
DTSTAMP:20260422T134903
DTSTART:20230714T023000Z
DTEND:20230714T045000Z
LOCATION:
SUMMARY:Faux Lo
DESCRIPTION: Faux Lo
END:VEVENT
END:VCALENDAR