BEGIN:VCALENDAR
VERSION:2.0
PRODID:-//eventon.com NONSGML v1.0//EN
BEGIN:VEVENT
UID:69e92c84a62da
DTSTAMP:20260422T151604
DTSTART:20230710T010000Z
DTEND:20230710T045000Z
LOCATION:Speakeasy 412 Congress Ave\,  Austin\,  Texas 78701
SUMMARY:Sir William
DESCRIPTION: Sir William
END:VEVENT
END:VCALENDAR