BEGIN:VCALENDAR
VERSION:2.0
PRODID:-//eventon.com NONSGML v1.0//EN
BEGIN:VEVENT
UID:69e98599c5d4c
DTSTAMP:20260422T213609
DTSTART:20230702T230000Z
DTEND:20230703T045000Z
LOCATION:Speakeasy 412 Congress Ave\,  Austin\,  Texas 78701
SUMMARY:Anthony Lux
DESCRIPTION: Anthony Lux
END:VEVENT
END:VCALENDAR