BEGIN:VCALENDAR
VERSION:2.0
PRODID:-//eventon.com NONSGML v1.0//EN
BEGIN:VEVENT
UID:69e9c8c4dcad5
DTSTAMP:20260423T022244
DTSTART:20230611T023000Z
DTEND:20230611T045000Z
LOCATION:
SUMMARY:Deja Vibes
DESCRIPTION: Deja Vibes
END:VEVENT
END:VCALENDAR