BEGIN:VCALENDAR
VERSION:2.0
PRODID:-//eventon.com NONSGML v1.0//EN
BEGIN:VEVENT
UID:69e9e0b7c3c4d
DTSTAMP:20260423T040455
DTSTART:20230701T023000Z
DTEND:20230701T045000Z
LOCATION:Speakeasy 412 Congress Ave\,  Austin\,  Texas 78701
SUMMARY:Rhinosaur
DESCRIPTION: Rhinosaur
END:VEVENT
END:VCALENDAR