BEGIN:VCALENDAR
VERSION:2.0
PRODID:-//eventon.com NONSGML v1.0//EN
BEGIN:VEVENT
UID:69ea6b2ac0fc3
DTSTAMP:20260423T135538
DTSTART:20230620T230000Z
DTEND:20230621T045000Z
LOCATION:
SUMMARY:Raul Ochoa
DESCRIPTION: Raul Ochoa
END:VEVENT
END:VCALENDAR