BEGIN:VCALENDAR
VERSION:2.0
PRODID:-//eventon.com NONSGML v1.0//EN
BEGIN:VEVENT
UID:69eaae948e8fa
DTSTAMP:20260423T184316
DTSTART:20230612T010000Z
DTEND:20230612T045000Z
LOCATION:Speakeasy 412 Congress Ave\,  Austin\,  Texas 78701
SUMMARY:Sir William
DESCRIPTION: Sir William
END:VEVENT
END:VCALENDAR