BEGIN:VCALENDAR
VERSION:2.0
PRODID:-//eventon.com NONSGML v1.0//EN
BEGIN:VEVENT
UID:69eac6409844f
DTSTAMP:20260423T202416
DTSTART:20230610T023000Z
DTEND:20230610T045000Z
LOCATION:Speakeasy 412 Congress Ave\,  Austin\,  Texas 78701
SUMMARY:Rhinosaur
DESCRIPTION: Rhinosaur
END:VEVENT
END:VCALENDAR