BEGIN:VCALENDAR
VERSION:2.0
PRODID:-//eventon.com NONSGML v1.0//EN
BEGIN:VEVENT
UID:69eb20f47a843
DTSTAMP:20260424T025116
DTSTART:20230606T010000Z
DTEND:20230606T045000Z
LOCATION:Speakeasy 412 Congress Ave\,  Austin\,  Texas 78701
SUMMARY:Open Mic with Raul Ochoa
DESCRIPTION: Open Mic with Raul Ochoa
END:VEVENT
END:VCALENDAR