BEGIN:VCALENDAR
VERSION:2.0
PRODID:-//eventon.com NONSGML v1.0//EN
BEGIN:VEVENT
UID:69eb36130d3cc
DTSTAMP:20260424T042123
DTSTART:20230605T010000Z
DTEND:20230605T045000Z
LOCATION:Speakeasy 412 Congress Ave\,  Austin\,  Texas 78701
SUMMARY:Anthony Lux
DESCRIPTION: Anthony Lux
END:VEVENT
END:VCALENDAR