BEGIN:VCALENDAR
VERSION:2.0
PRODID:-//eventon.com NONSGML v1.0//EN
BEGIN:VEVENT
UID:69eb755bbfd5e
DTSTAMP:20260424T085123
DTSTART:20230524T010000Z
DTEND:20230524T045000Z
LOCATION:
SUMMARY:Carly Jo Jackson
DESCRIPTION: Carly Jo Jackson
END:VEVENT
END:VCALENDAR