BEGIN:VCALENDAR
VERSION:2.0
PRODID:-//eventon.com NONSGML v1.0//EN
BEGIN:VEVENT
UID:69eba0b67574c
DTSTAMP:20260424T115622
DTSTART:20230529T010000Z
DTEND:20230529T030000Z
LOCATION:
SUMMARY:Robin Fierce
DESCRIPTION: As seen on RuPaul Drag Race\,  Robin Fierce join us for Pride Memorial Day Weekend! Meet & Greet with an iconic performances from 8-10! Visit https://blissaustin.com/ for tickets! &nbsp;
END:VEVENT
END:VCALENDAR