BEGIN:VCALENDAR
VERSION:2.0
PRODID:-//eventon.com NONSGML v1.0//EN
BEGIN:VEVENT
UID:69ebe3e9bf503
DTSTAMP:20260424T164305
DTSTART:20230517T010000Z
DTEND:20230517T045000Z
LOCATION:Speakeasy 412 Congress Ave\,  Austin\,  Texas 78701
SUMMARY:Anthony Lux
DESCRIPTION: Anthony Lux
END:VEVENT
END:VCALENDAR