BEGIN:VCALENDAR
VERSION:2.0
PRODID:-//eventon.com NONSGML v1.0//EN
BEGIN:VEVENT
UID:69ec0dd392f40
DTSTAMP:20260424T194155
DTSTART:20230514T023000Z
DTEND:20230514T045000Z
LOCATION:Speakeasy 412 Congress Ave\,  Austin\,  Texas 78701
SUMMARY:The Lonestar Souvenirs
DESCRIPTION: The Lonestar Souvenirs
END:VEVENT
END:VCALENDAR