BEGIN:VCALENDAR
VERSION:2.0
PRODID:-//eventon.com NONSGML v1.0//EN
BEGIN:VEVENT
UID:69ecc675a96e0
DTSTAMP:20260425T084941
DTSTART:20230520T023000Z
DTEND:20230520T045000Z
LOCATION:Speakeasy 412 Congress Ave\,  Austin\,  Texas 78701
SUMMARY:Zoodust
DESCRIPTION: Zoodust
END:VEVENT
END:VCALENDAR