BEGIN:VCALENDAR
VERSION:2.0
PRODID:-//eventon.com NONSGML v1.0//EN
BEGIN:VEVENT
UID:69ecf0e962b06
DTSTAMP:20260425T115049
DTSTART:20230513T020000Z
DTEND:20230512T060000Z
LOCATION:
SUMMARY:Q~ The Music of Queen LIVE
DESCRIPTION: Q~ The Music of Queen LIVE
END:VEVENT
END:VCALENDAR