BEGIN:VCALENDAR
VERSION:2.0
PRODID:-//eventon.com NONSGML v1.0//EN
BEGIN:VEVENT
UID:69ed189ae0aa9
DTSTAMP:20260425T144010
DTSTART:20230515T010000Z
DTEND:20230515T045000Z
LOCATION:Speakeasy 412 Congress Ave\,  Austin\,  Texas 78701
SUMMARY:Sir William
DESCRIPTION: Sir William
END:VEVENT
END:VCALENDAR