BEGIN:VCALENDAR
VERSION:2.0
PRODID:-//eventon.com NONSGML v1.0//EN
BEGIN:VEVENT
UID:69ed5db737e5e
DTSTAMP:20260425T193503
DTSTART:20230513T023000Z
DTEND:20230513T045000Z
LOCATION:Speakeasy 412 Congress Ave\,  Austin\,  Texas 78701
SUMMARY:Rhinosaur
DESCRIPTION: Rhinosaur
END:VEVENT
END:VCALENDAR