BEGIN:VCALENDAR
VERSION:2.0
PRODID:-//eventon.com NONSGML v1.0//EN
BEGIN:VEVENT
UID:69ed5e1087298
DTSTAMP:20260425T193632
DTSTART:20230512T023000Z
DTEND:20230512T045000Z
LOCATION:Speakeasy 412 Congress Ave\,  Austin\,  Texas 78701
SUMMARY:NOLO
DESCRIPTION: NOLO
END:VEVENT
END:VCALENDAR