BEGIN:VCALENDAR
VERSION:2.0
PRODID:-//eventon.com NONSGML v1.0//EN
BEGIN:VEVENT
UID:69ed8d37c144d
DTSTAMP:20260425T225743
DTSTART:20230507T230000Z
DTEND:20230508T045000Z
LOCATION:Speakeasy 412 Congress Ave\,  Austin\,  Texas 78701
SUMMARY:Anthony Lux
DESCRIPTION: Anthony Lux
END:VEVENT
END:VCALENDAR