BEGIN:VCALENDAR
VERSION:2.0
PRODID:-//eventon.com NONSGML v1.0//EN
BEGIN:VEVENT
UID:69ebbfd7587d0
DTSTAMP:20260424T140911
DTSTART:20220619T230000Z
DTEND:20220620T045000Z
LOCATION:
SUMMARY:Matt Boland
DESCRIPTION: Matt Boland
END:VEVENT
END:VCALENDAR