BEGIN:VCALENDAR
VERSION:2.0
PRODID:-//eventon.com NONSGML v1.0//EN
BEGIN:VEVENT
UID:69ebc03430753
DTSTAMP:20260424T141044
DTSTART:20220619T003000Z
DTEND:20220619T023000Z
LOCATION:Speakeasy 412 Congress Ave\,  Austin\,  Texas 78701
SUMMARY:Comedy in the Capital
DESCRIPTION: Comedy in the Capital
END:VEVENT
END:VCALENDAR