BEGIN:VCALENDAR
VERSION:2.0
PRODID:-//eventon.com NONSGML v1.0//EN
BEGIN:VEVENT
UID:69eb95ddb600c
DTSTAMP:20260424T111005
DTSTART:20220604T023000Z
DTEND:20220604T045000Z
LOCATION:Speakeasy 412 Congress Ave\,  Austin\,  Texas 78701
SUMMARY:Type A
DESCRIPTION: Type A
END:VEVENT
END:VCALENDAR