BEGIN:VCALENDAR
VERSION:2.0
PRODID:-//eventon.com NONSGML v1.0//EN
BEGIN:VEVENT
UID:69eb7ed274748
DTSTAMP:20260424T093146
DTSTART:20220603T020000Z
DTEND:20220603T045000Z
LOCATION:
SUMMARY:The Lonestar Souvenirs
DESCRIPTION: The Lonestar Souvenirs
END:VEVENT
END:VCALENDAR