BEGIN:VCALENDAR
VERSION:2.0
PRODID:-//eventon.com NONSGML v1.0//EN
BEGIN:VEVENT
UID:69eb3e68aadd3
DTSTAMP:20260424T045656
DTSTART:20220506T020000Z
DTEND:20220506T045000Z
LOCATION:Speakeasy 412 Congress Ave\,  Austin\,  Texas 78701
SUMMARY:Nolo
DESCRIPTION: Nolo
END:VEVENT
END:VCALENDAR