BEGIN:VCALENDAR
VERSION:2.0
PRODID:-//eventon.com NONSGML v1.0//EN
BEGIN:VEVENT
UID:69eb2a1718284
DTSTAMP:20260424T033015
DTSTART:20220508T230000Z
DTEND:20220509T045000Z
LOCATION:
SUMMARY:Matt Boland
DESCRIPTION: Matt Boland
END:VEVENT
END:VCALENDAR