BEGIN:VCALENDAR
VERSION:2.0
PRODID:-//eventon.com NONSGML v1.0//EN
BEGIN:VEVENT
UID:69eb14d314bac
DTSTAMP:20260424T015931
DTSTART:20220501T230000Z
DTEND:20220502T045000Z
LOCATION:Speakeasy 412 Congress Ave\,  Austin\,  Texas 78701
SUMMARY:Carly Jo Jackson
DESCRIPTION: Carly Jo Jackson
END:VEVENT
END:VCALENDAR