BEGIN:VCALENDAR
VERSION:2.0
PRODID:-//eventon.com NONSGML v1.0//EN
BEGIN:VEVENT
UID:69eb16a8b6c15
DTSTAMP:20260424T020720
DTSTART:20220511T010000Z
DTEND:20220511T045000Z
LOCATION:
SUMMARY:Anthony Lux
DESCRIPTION: Anthony Lux
END:VEVENT
END:VCALENDAR