BEGIN:VCALENDAR
VERSION:2.0
PRODID:-//eventon.com NONSGML v1.0//EN
BEGIN:VEVENT
UID:69eaec192732f
DTSTAMP:20260423T230545
DTSTART:20220424T010000Z
DTEND:20220424T045000Z
LOCATION:
SUMMARY:Bobby V.
DESCRIPTION: Experience Platinum Selling and Grammy Nominated R&B Artist Bobby V. Live in Concert! In the Ballroom at Speakeasy The After Party will be on the Rooftop Lounge featuring a Variety of Hip-Hop\,  Afro-Beat\,  Reggae\,  R&B Doors 8pm | Concert 9:30pm | After-Party until 2am. Reserve your Table Today!  https://www.eventbrite.com/e/bobby-v-concert-after-party-423-tickets-252537194547?aff=ebdssbdestsearch
END:VEVENT
END:VCALENDAR